BEGIN:VCALENDAR
VERSION:2.0
PRODID:-//eventon.com NONSGML v1.0//EN
CALSCALE:GREGORIAN
METHOD:PUBLISH
BEGIN:VEVENT
UID:69e5a47e68cc0
DTSTAMP:20260420T035854Z
DTSTART:20240211T140000Z
DTEND:20240211T190000Z
LOCATION:
SUMMARY:Game Day Trivia
DESCRIPTION:On Sunday\,  February 11th from 9am-2pm\,  join us in store for
  our 4th Annual Game Day Trivia! Test your football knowledge to try to win
  a Zallie&#8217;s Fresh Kitchen specialty item to enjoy while watching the 
 BIG Game\,  such as our Spinach Dip Bread Bowl\,  Italian Deluxe Ring Hoagi
 e\,  Stromboli[..]\nhttps://zalliefamilymarkets.com/events/game-day-trivia/
URL:https://zalliefamilymarkets.com/events/game-day-trivia/
END:VEVENT
END:VCALENDAR